BEGIN:VCALENDAR
VERSION:2.0
PRODID:-//Woodlawn Baptist Church - ECPv6.11.2.1//NONSGML v1.0//EN
CALSCALE:GREGORIAN
METHOD:PUBLISH
X-WR-CALNAME:Woodlawn Baptist Church
X-ORIGINAL-URL:https://woodlawnri.org
X-WR-CALDESC:Events for Woodlawn Baptist Church
REFRESH-INTERVAL;VALUE=DURATION:PT1H
X-Robots-Tag:noindex
X-PUBLISHED-TTL:PT1H
BEGIN:VTIMEZONE
TZID:UTC
BEGIN:STANDARD
TZOFFSETFROM:+0000
TZOFFSETTO:+0000
TZNAME:UTC
DTSTART:20250101T000000
END:STANDARD
END:VTIMEZONE
BEGIN:VEVENT
DTSTART;TZID=UTC:20251213T090000
DTEND;TZID=UTC:20251213T103000
DTSTAMP:20260423T115909
CREATED:20250131T151644Z
LAST-MODIFIED:20251025T223336Z
UID:362-1765616400-1765621800@woodlawnri.org
SUMMARY:Men's Breakfast
DESCRIPTION:Men’s Breakfast\nGather with other men for breakfast and friendly\, Christ-centered discussion on the second Saturday of each month at 9am. \n \n 
URL:https://woodlawnri.org/event/mens-breakfast/
LOCATION:Woodlawn Baptist Church\, 337 Lonsdale Ave.\, Pawtucket\, RI\, 02860\, United States
ATTACH;FMTTYPE=image/png:https://woodlawnri.org/wp-content/uploads/2025/01/Mens-Breakfast-1.png
END:VEVENT
END:VCALENDAR