BEGIN:VCALENDAR
VERSION:2.0
PRODID:-//Woodlawn Baptist Church - ECPv6.11.2.1//NONSGML v1.0//EN
CALSCALE:GREGORIAN
METHOD:PUBLISH
X-WR-CALNAME:Woodlawn Baptist Church
X-ORIGINAL-URL:https://woodlawnri.org
X-WR-CALDESC:Events for Woodlawn Baptist Church
REFRESH-INTERVAL;VALUE=DURATION:PT1H
X-Robots-Tag:noindex
X-PUBLISHED-TTL:PT1H
BEGIN:VTIMEZONE
TZID:UTC
BEGIN:STANDARD
TZOFFSETFROM:+0000
TZOFFSETTO:+0000
TZNAME:UTC
DTSTART:20250101T000000
END:STANDARD
END:VTIMEZONE
BEGIN:VEVENT
DTSTART;TZID=UTC:20251228T103000
DTEND;TZID=UTC:20251228T120000
DTSTAMP:20260423T151808
CREATED:20230920T155608Z
LAST-MODIFIED:20251206T220805Z
UID:245-1766917800-1766923200@woodlawnri.org
SUMMARY:Sunday Morning Worship Service
DESCRIPTION:Sunday Morning Worship Service\n\n\n\nWe meet at 10:30am on Sundays to worship the Lord together.Pastor Tom Mahoney is teaching through a series entitled\, “Jesus is the Messiah – The Gospel of Matthew” \nWe’ll see you there! 
URL:https://woodlawnri.org/event/sunday-morning-worship/
LOCATION:Woodlawn Baptist Church\, 337 Lonsdale Ave.\, Pawtucket\, RI\, 02860\, United States
ATTACH;FMTTYPE=image/png:https://woodlawnri.org/wp-content/uploads/2023/09/2.png
END:VEVENT
END:VCALENDAR